BEGIN:VCALENDAR
VERSION:2.0
PRODID:-//Moulin de Roques - ECPv6.15.18//NONSGML v1.0//EN
CALSCALE:GREGORIAN
METHOD:PUBLISH
X-WR-CALNAME:Moulin de Roques
X-ORIGINAL-URL:https://www.lemoulin-roques.com
X-WR-CALDESC:Évènements pour Moulin de Roques
REFRESH-INTERVAL;VALUE=DURATION:PT1H
X-Robots-Tag:noindex
X-PUBLISHED-TTL:PT1H
BEGIN:VTIMEZONE
TZID:Europe/Paris
BEGIN:DAYLIGHT
TZOFFSETFROM:+0100
TZOFFSETTO:+0200
TZNAME:CEST
DTSTART:20250330T010000
END:DAYLIGHT
BEGIN:STANDARD
TZOFFSETFROM:+0200
TZOFFSETTO:+0100
TZNAME:CET
DTSTART:20251026T010000
END:STANDARD
BEGIN:DAYLIGHT
TZOFFSETFROM:+0100
TZOFFSETTO:+0200
TZNAME:CEST
DTSTART:20260329T010000
END:DAYLIGHT
BEGIN:STANDARD
TZOFFSETFROM:+0200
TZOFFSETTO:+0100
TZNAME:CET
DTSTART:20261025T010000
END:STANDARD
BEGIN:DAYLIGHT
TZOFFSETFROM:+0100
TZOFFSETTO:+0200
TZNAME:CEST
DTSTART:20270328T010000
END:DAYLIGHT
BEGIN:STANDARD
TZOFFSETFROM:+0200
TZOFFSETTO:+0100
TZNAME:CET
DTSTART:20271031T010000
END:STANDARD
END:VTIMEZONE
BEGIN:VEVENT
DTSTART;VALUE=DATE:20260418
DTEND;VALUE=DATE:20260531
DTSTAMP:20260424T013841
CREATED:20251220T111211Z
LAST-MODIFIED:20260423T144634Z
UID:3848-1776470400-1780185599@www.lemoulin-roques.com
SUMMARY:Autour des cultures urbaines
DESCRIPTION:Saname et Mendo sont deux artistes issus de la culture urbaine\, chacun développant un univers singulier nourri par le graffiti et l’art contemporain. \nAutodidacte\, Saname\, marqué très jeune par la découverte du graffiti\, explore une peinture spontanée et abstraite faite de formes géométriques\, de lettres\, de coulures et de couleurs intenses\, où l’énergie gestuelle crée des compositions dynamiques. \nMendo\, quant à lui\, puise dans l’imaginaire du hip-hop et de la rue pour réaliser des œuvres peintes à partir de photographies transformées\, souvent sur des supports urbains recyclés comme des panneaux ou des planches de bois. \nQuand ils collaborent sur le même support\, les portraits captivants de Mendo et le lettrage coloré de Saname se rencontrent dans une composition audacieuse où dialoguent deux univers artistiques. Une rencontre créative où chaque détail raconte une histoire et où les talents se mêlent pour créer une expérience artistique unique. \n  \nL’exposition sera accompagnée de « Girlz\, le rap au féminin » qui l’exposition vous fera découvrir des rappeuses pionnières\, en passant par les rappeuses qui ont influencé la planète entière et celles qui\, plus proches de chez nous\, ont des choses à dire sur la société française qui les entoure. S’éloignant des clichés qu’elles détournent pour mieux s’affranchir\, les femmes dans le Rap ont acquis leurs lettres de noblesse\, GIRLZ vous fera découvrir des femmes de grand talent. Il est temps de leur donner la place qu’elles méritent !
URL:https://www.lemoulin-roques.com/evenement/autour-des-cultures-urbaines/
LOCATION:Salle d’exposition\, France
CATEGORIES:Exposition
ATTACH;FMTTYPE=image/jpeg:https://www.lemoulin-roques.com/wp-content/uploads/2025/12/Duo-2301-208x208-1-scaled.jpg
END:VEVENT
BEGIN:VEVENT
DTSTART;TZID=Europe/Paris:20260424T190000
DTEND;TZID=Europe/Paris:20260424T220000
DTSTAMP:20260424T013841
CREATED:20260108T161801Z
LAST-MODIFIED:20260309T082051Z
UID:4034-1777057200-1777068000@www.lemoulin-roques.com
SUMMARY:Soirée jeux de société
DESCRIPTION:Avec l’association Cité Meeple et La Maison pour Tous\nCité Meeple\, association dédiée aux passionnés de jeux de société\, qu’ils soient novices ou experts\, vous invite à partager un moment convivial autour de nombreux jeux modernes et classiques. Venez découvrir de nouveaux jeux\, rencontrer d’autres joueurs et passer une soirée pleine de fun et de stratégie ! \n\n16h30-18h30 : Halte Jeux parents/enfants – moins de 6 ans\n19h-20h : Repas partagé\n20h-22h : Soirée jeux de société à partir de 10 ans\n\n 
URL:https://www.lemoulin-roques.com/evenement/soiree-jeux-de-societe-2/
LOCATION:Médiathèque\, France
CATEGORIES:Jeux
ATTACH;FMTTYPE=image/jpeg:https://www.lemoulin-roques.com/wp-content/uploads/2026/01/WhatsApp-Image-2026-01-31-at-15.13.49-5.jpeg
END:VEVENT
END:VCALENDAR