BEGIN:VCALENDAR
VERSION:2.0
PRODID:-//Moulin de Roques - ECPv6.15.18//NONSGML v1.0//EN
CALSCALE:GREGORIAN
METHOD:PUBLISH
X-WR-CALNAME:Moulin de Roques
X-ORIGINAL-URL:https://www.lemoulin-roques.com
X-WR-CALDESC:Évènements pour Moulin de Roques
REFRESH-INTERVAL;VALUE=DURATION:PT1H
X-Robots-Tag:noindex
X-PUBLISHED-TTL:PT1H
BEGIN:VTIMEZONE
TZID:Europe/Paris
BEGIN:DAYLIGHT
TZOFFSETFROM:+0100
TZOFFSETTO:+0200
TZNAME:CEST
DTSTART:20240331T010000
END:DAYLIGHT
BEGIN:STANDARD
TZOFFSETFROM:+0200
TZOFFSETTO:+0100
TZNAME:CET
DTSTART:20241027T010000
END:STANDARD
BEGIN:DAYLIGHT
TZOFFSETFROM:+0100
TZOFFSETTO:+0200
TZNAME:CEST
DTSTART:20250330T010000
END:DAYLIGHT
BEGIN:STANDARD
TZOFFSETFROM:+0200
TZOFFSETTO:+0100
TZNAME:CET
DTSTART:20251026T010000
END:STANDARD
BEGIN:DAYLIGHT
TZOFFSETFROM:+0100
TZOFFSETTO:+0200
TZNAME:CEST
DTSTART:20260329T010000
END:DAYLIGHT
BEGIN:STANDARD
TZOFFSETFROM:+0200
TZOFFSETTO:+0100
TZNAME:CET
DTSTART:20261025T010000
END:STANDARD
END:VTIMEZONE
BEGIN:VEVENT
DTSTART;TZID=Europe/Paris:20250614T163000
DTEND;TZID=Europe/Paris:20250614T173000
DTSTAMP:20260420T220010
CREATED:20241212T094845Z
LAST-MODIFIED:20250613T080641Z
UID:2683-1749918600-1749922200@www.lemoulin-roques.com
SUMMARY:Nous\, la forêt - ou comment se planter - Compagnie Kif Kif
DESCRIPTION:Deux frères quasiment identiques. Deux gamins qui jouent au pied d’un arbre\, accompagnés par un musicien. Ils tournent en rond\, se comparent\, se jugent et se jaugent. Ça se confronte et se percute\, ça se soutient et s’élève. Ils se balancent des pommes et se renvoient la balle. A travers le jonglage\, les portés acrobatiques\, la danse et les questionnements poético-métaphysiques\, ces explorateurs naïfs expérimentent les lois de la gravité. Ils revendiquent le droit de plonger vers le haut\, renversent le dessus et le dessous et chutent dans la vie. Les deux grands enfants nous entraînent dans leur imaginaire avec légèreté\, humour et tendresse. En miroir\, ils grandissent et déploient chacun leurs branches. Ils cherchent leur place dans la forêt. \nCréation et interprétation :  Lucas Bouissou\, Baptiste Bouissou \nCompositeur / Musicien interprète : Alexis Barbier \nCollaboratrice à la scénographie : Louise Digard \nCréatrice costumes : Françoise Leger \nRegard extérieur : Noëmie Bouissou \nDiffusion et production : Juliette Grigy – Baron production \nAdministration : Margaux Duchène – Baron production \nDurée : 1h \n  \nCrédit photo : C.Barbier ; Léna Pinon Lang ; Sixtine Leroy 
URL:https://www.lemoulin-roques.com/evenement/nous-la-foret-compagnie-kif-kif/
LOCATION:Salle de spectacle\, France
CATEGORIES:Cirque
ATTACH;FMTTYPE=image/jpeg:https://www.lemoulin-roques.com/wp-content/uploads/2024/12/P22-NOUS-LA-FORET_Kif-Kif-Compagnie-credit-C.Barbier-scaled.jpg
END:VEVENT
END:VCALENDAR