BEGIN:VCALENDAR
VERSION:2.0
PRODID:-//Moulin de Roques - ECPv6.15.18//NONSGML v1.0//EN
CALSCALE:GREGORIAN
METHOD:PUBLISH
X-WR-CALNAME:Moulin de Roques
X-ORIGINAL-URL:https://www.lemoulin-roques.com
X-WR-CALDESC:Évènements pour Moulin de Roques
REFRESH-INTERVAL;VALUE=DURATION:PT1H
X-Robots-Tag:noindex
X-PUBLISHED-TTL:PT1H
BEGIN:VTIMEZONE
TZID:Europe/Paris
BEGIN:DAYLIGHT
TZOFFSETFROM:+0100
TZOFFSETTO:+0200
TZNAME:CEST
DTSTART:20240331T010000
END:DAYLIGHT
BEGIN:STANDARD
TZOFFSETFROM:+0200
TZOFFSETTO:+0100
TZNAME:CET
DTSTART:20241027T010000
END:STANDARD
BEGIN:DAYLIGHT
TZOFFSETFROM:+0100
TZOFFSETTO:+0200
TZNAME:CEST
DTSTART:20250330T010000
END:DAYLIGHT
BEGIN:STANDARD
TZOFFSETFROM:+0200
TZOFFSETTO:+0100
TZNAME:CET
DTSTART:20251026T010000
END:STANDARD
BEGIN:DAYLIGHT
TZOFFSETFROM:+0100
TZOFFSETTO:+0200
TZNAME:CEST
DTSTART:20260329T010000
END:DAYLIGHT
BEGIN:STANDARD
TZOFFSETFROM:+0200
TZOFFSETTO:+0100
TZNAME:CET
DTSTART:20261025T010000
END:STANDARD
END:VTIMEZONE
BEGIN:VEVENT
DTSTART;TZID=Europe/Paris:20250125T173000
DTEND;TZID=Europe/Paris:20250125T190000
DTSTAMP:20260421T061158
CREATED:20240702T135433Z
LAST-MODIFIED:20250123T115939Z
UID:2227-1737826200-1737831600@www.lemoulin-roques.com
SUMMARY:15m² - Cie Le Poil Flou
DESCRIPTION:Dans le cadre des Nuits de la Lecture. \nCohabitation en espace réduit\, lecture tout terrain\, haute voltige en pyjama… \nUn lit\, une étagère\, quelques livres. Et deux personnages qui se connaissent bien. \nIls partagent un quotidien banal qu’ils détournent sans cesse pour s’évader. Le sérieux et la contenance ne sont jamais loin. Mais toujours\, l’imagination et le jeu l’emportent\, et rendent à ces deux êtres la possession de leur réalité. \nJusqu’où peut-on voyager au milieu d’une chambre ? \nPar le mouvement acrobatique\, le théâtre et la musique\, le Poil Flou offre ici un hymne à la procrastination et au rêve. Entre auto-dérision et poésie\, la complicité et la rivalité cohabitent et convergent dans un univers d’émotions fortes et lumineuses. \n©Suzy Lagrange
URL:https://www.lemoulin-roques.com/evenement/15m%c2%b2-cie-le-poil-flou/
LOCATION:Médiathèque\, France
CATEGORIES:Cirque,Tout public
ATTACH;FMTTYPE=image/png:https://www.lemoulin-roques.com/wp-content/uploads/2024/07/moulin-roques-15m2.png
END:VEVENT
END:VCALENDAR