BEGIN:VCALENDAR
VERSION:2.0
PRODID:-//Moulin de Roques - ECPv6.15.18//NONSGML v1.0//EN
CALSCALE:GREGORIAN
METHOD:PUBLISH
X-WR-CALNAME:Moulin de Roques
X-ORIGINAL-URL:https://www.lemoulin-roques.com
X-WR-CALDESC:Évènements pour Moulin de Roques
REFRESH-INTERVAL;VALUE=DURATION:PT1H
X-Robots-Tag:noindex
X-PUBLISHED-TTL:PT1H
BEGIN:VTIMEZONE
TZID:Europe/Paris
BEGIN:DAYLIGHT
TZOFFSETFROM:+0100
TZOFFSETTO:+0200
TZNAME:CEST
DTSTART:20240331T010000
END:DAYLIGHT
BEGIN:STANDARD
TZOFFSETFROM:+0200
TZOFFSETTO:+0100
TZNAME:CET
DTSTART:20241027T010000
END:STANDARD
BEGIN:DAYLIGHT
TZOFFSETFROM:+0100
TZOFFSETTO:+0200
TZNAME:CEST
DTSTART:20250330T010000
END:DAYLIGHT
BEGIN:STANDARD
TZOFFSETFROM:+0200
TZOFFSETTO:+0100
TZNAME:CET
DTSTART:20251026T010000
END:STANDARD
BEGIN:DAYLIGHT
TZOFFSETFROM:+0100
TZOFFSETTO:+0200
TZNAME:CEST
DTSTART:20260329T010000
END:DAYLIGHT
BEGIN:STANDARD
TZOFFSETFROM:+0200
TZOFFSETTO:+0100
TZNAME:CET
DTSTART:20261025T010000
END:STANDARD
END:VTIMEZONE
BEGIN:VEVENT
DTSTART;TZID=Europe/Paris:20251219T203000
DTEND;TZID=Europe/Paris:20251219T203000
DTSTAMP:20260420T142632
CREATED:20250722T120246Z
LAST-MODIFIED:20250925T090612Z
UID:3317-1766176200-1766176200@www.lemoulin-roques.com
SUMMARY:Opéra pour sèche-cheveux - Cie Blizzard Concept
DESCRIPTION:Opéra pour sèche-cheveux se veut léger et profond\, bien huilé mais grinçant quand même\, limpide quoique troublant\, intellectuel et parfois primitis\, sincèrement malhonnête\, reposant et explosif\, sublime et con… \nIl vous fera repenser vos certitudes\, oublier vos habitudes\, noter les similitudes\, comprendre votre solitude\, calmer vos inquiétudes\, reconsidérer votre attitude\, calculer la longitude et reprendre vos études. À travers une manipulation significative d’objets insignifiants et un théâtre hormonal\, la compagnie Blizzard Concept nous offre à investir son monde où plus aucun objet n’est sous utilisé. \nToute loi scientifique est réinventée au service du cirque et de l’exploit\, et la magie intervient lorsque le rationnel s’essouffle. \nDe : Antoine Terrieux et Julien Mandier \nAvec : Julien Mandier ou Cochise le Berre et Jérémie Chevalier \nCréation lumière : Margot Falletty \nTechnique : Bambou Monnet ou Lola Bréard\nRégie lumière :  Margot Falletty ou Marylou Bateau\nProduction / diffusion :  Baron production – Jordan Enard\nProduction / administration : Alice Savatier\nRegard extérieur : Sylvain Cousin\nSuivi artistique dans le cadre du Studio-PACT Christian Coumin \n@Frederick Guerri
URL:https://www.lemoulin-roques.com/evenement/opera-pour-seche-cheveux-cie-blizzard-concept/
LOCATION:Salle de spectacle\, France
CATEGORIES:Cirque
ATTACH;FMTTYPE=image/jpeg:https://www.lemoulin-roques.com/wp-content/uploads/2025/06/P20_opera-credit-FrederickGuerri-scaled.jpg
END:VEVENT
END:VCALENDAR