BEGIN:VCALENDAR
VERSION:2.0
PRODID:-//Moulin de Roques - ECPv6.15.18//NONSGML v1.0//EN
CALSCALE:GREGORIAN
METHOD:PUBLISH
X-ORIGINAL-URL:https://www.lemoulin-roques.com
X-WR-CALDESC:Évènements pour Moulin de Roques
REFRESH-INTERVAL;VALUE=DURATION:PT1H
X-Robots-Tag:noindex
X-PUBLISHED-TTL:PT1H
BEGIN:VTIMEZONE
TZID:Europe/Paris
BEGIN:DAYLIGHT
TZOFFSETFROM:+0100
TZOFFSETTO:+0200
TZNAME:CEST
DTSTART:20250330T010000
END:DAYLIGHT
BEGIN:STANDARD
TZOFFSETFROM:+0200
TZOFFSETTO:+0100
TZNAME:CET
DTSTART:20251026T010000
END:STANDARD
BEGIN:DAYLIGHT
TZOFFSETFROM:+0100
TZOFFSETTO:+0200
TZNAME:CEST
DTSTART:20260329T010000
END:DAYLIGHT
BEGIN:STANDARD
TZOFFSETFROM:+0200
TZOFFSETTO:+0100
TZNAME:CET
DTSTART:20261025T010000
END:STANDARD
BEGIN:DAYLIGHT
TZOFFSETFROM:+0100
TZOFFSETTO:+0200
TZNAME:CEST
DTSTART:20270328T010000
END:DAYLIGHT
BEGIN:STANDARD
TZOFFSETFROM:+0200
TZOFFSETTO:+0100
TZNAME:CET
DTSTART:20271031T010000
END:STANDARD
END:VTIMEZONE
BEGIN:VEVENT
DTSTART;TZID=Europe/Paris:20260319T093000
DTEND;TZID=Europe/Paris:20260319T110000
DTSTAMP:20260422T122300
CREATED:20260224T093312Z
LAST-MODIFIED:20260224T104323Z
UID:4143-1773912600-1773918000@www.lemoulin-roques.com
SUMMARY:Rencontre : Bien démarrer avec bébé et le reste de la famille
DESCRIPTION:Dans le cadre de la Semaine Nationale de la Petite enfance\, la Maison pour tous en partenariat avec le Moulin vous propose une conférence et des échanges : \nEquilibres alimentaires : Bien démarrer avec bébé et le reste de la famille \nDe nombreuses questions se posent\, pour les jeunes parents\, autour de l’alimentation de leur nouveau-né : c’est l’occasion de les poser et d’essayer d’y répondre ! \nRencontre pour les parents (enfants\, grands-parents et autres sont aussi les bienvenus !) avec des professionnel.le.s de la petite enfance\, proposée par la Maison des Solidarités de Frouzins. \nDans le cadre des « Astuces pour les parents ».
URL:https://www.lemoulin-roques.com/evenement/rencontre-bien-demarrer-avec-bebe-et-le-reste-de-la-famille/
LOCATION:Médiathèque\, France
CATEGORIES:Rencontre
ATTACH;FMTTYPE=image/png:https://www.lemoulin-roques.com/wp-content/uploads/2026/01/Capture-decran-2026-01-08-105016.png
END:VEVENT
END:VCALENDAR