BEGIN:VCALENDAR
VERSION:2.0
PRODID:-//Moulin de Roques - ECPv6.15.18//NONSGML v1.0//EN
CALSCALE:GREGORIAN
METHOD:PUBLISH
X-ORIGINAL-URL:https://www.lemoulin-roques.com
X-WR-CALDESC:Évènements pour Moulin de Roques
REFRESH-INTERVAL;VALUE=DURATION:PT1H
X-Robots-Tag:noindex
X-PUBLISHED-TTL:PT1H
BEGIN:VTIMEZONE
TZID:Europe/Paris
BEGIN:DAYLIGHT
TZOFFSETFROM:+0100
TZOFFSETTO:+0200
TZNAME:CEST
DTSTART:20230326T010000
END:DAYLIGHT
BEGIN:STANDARD
TZOFFSETFROM:+0200
TZOFFSETTO:+0100
TZNAME:CET
DTSTART:20231029T010000
END:STANDARD
BEGIN:DAYLIGHT
TZOFFSETFROM:+0100
TZOFFSETTO:+0200
TZNAME:CEST
DTSTART:20240331T010000
END:DAYLIGHT
BEGIN:STANDARD
TZOFFSETFROM:+0200
TZOFFSETTO:+0100
TZNAME:CET
DTSTART:20241027T010000
END:STANDARD
BEGIN:DAYLIGHT
TZOFFSETFROM:+0100
TZOFFSETTO:+0200
TZNAME:CEST
DTSTART:20250330T010000
END:DAYLIGHT
BEGIN:STANDARD
TZOFFSETFROM:+0200
TZOFFSETTO:+0100
TZNAME:CET
DTSTART:20251026T010000
END:STANDARD
END:VTIMEZONE
BEGIN:VEVENT
DTSTART;VALUE=DATE:20241008
DTEND;VALUE=DATE:20241024
DTSTAMP:20260423T093212
CREATED:20240702T145820Z
LAST-MODIFIED:20240920T081900Z
UID:2246-1728345600-1729727999@www.lemoulin-roques.com
SUMMARY:En octobre\, on tisse des liens
DESCRIPTION:Le mot latin TEXTUS désigne une trame. \nIl peut s’agir aussi bien de celle\, faite de fils horizontaux rassemblés par des fils verticaux\, qui constitue un textile\, que celle\, faite de mots qui forment des phrases\, des chapitres\, des épopées\, d’un texte. \nOctobre\, c’est la saison idéale pour tricoter en vue de l’hiver\, et aussi pour se raconter des histoires\, pour tisser des liens qui nous rassemblent\, qui nous font tenir ensemble ! \nVoici donc la trame de nos rendez-vous autour du fil durant ce joli mois d’octobre : \n\nDu 8 au 12 octobre : exposition de l’association de patchwork de Roques\nSamedi 12 octobre de 14h à 17h : samedi découverte atelier couture parents/enfants avec Coutune (gratuit sur réservation).\nDu 19 octobre au 14 décembre : exposition Au fil du contes par Odile Santi.\nSamedi 19 octobre :\n\nà 11h : samedi conté\nà partir de 14h : samedi découverte fabrication de poches à drain Lovely bag avec l’association Lovely Solidarity (entrée libre et gratuite). Dans le cadre d’Octobre Rose.\n14h30\, 16h30 et 18h : Les films surprise du Samedi ! À 14h30\, film en lien avec la couture\, à 16h30\, séance spéciale enfants\, et à 18h\, film en lien avec Octobre Rose. Demandez le programme aux médiathécaires !\n\n\nMardi 22 octobre : ateliers en lien avec le spectacle Couture(s).\n\n10h à 12h : atelier réservé à une structure partenaire\n15h à 17h : atelier dans le cadre de Mes vacances au Moulin\, pour les enfants de 8 à 12 ans\, gratuit sur réservation.\n\n\nMercredi 23 octobre à 14h30 : Spectacle Couture(s) par la Cie En cours de route
URL:https://www.lemoulin-roques.com/evenement/tisse-des-liens/
LOCATION:Médiathèque\, France
CATEGORIES:Événement,Rencontre,Tout public
ATTACH;FMTTYPE=image/png:https://www.lemoulin-roques.com/wp-content/uploads/2024/07/moulin-roques-tissedesliens-1.png
END:VEVENT
END:VCALENDAR