BEGIN:VCALENDAR
VERSION:2.0
PRODID:-//Moulin de Roques - ECPv6.15.18//NONSGML v1.0//EN
CALSCALE:GREGORIAN
METHOD:PUBLISH
X-WR-CALNAME:Moulin de Roques
X-ORIGINAL-URL:https://www.lemoulin-roques.com
X-WR-CALDESC:Évènements pour Moulin de Roques
REFRESH-INTERVAL;VALUE=DURATION:PT1H
X-Robots-Tag:noindex
X-PUBLISHED-TTL:PT1H
BEGIN:VTIMEZONE
TZID:Europe/Paris
BEGIN:DAYLIGHT
TZOFFSETFROM:+0100
TZOFFSETTO:+0200
TZNAME:CEST
DTSTART:20240331T010000
END:DAYLIGHT
BEGIN:STANDARD
TZOFFSETFROM:+0200
TZOFFSETTO:+0100
TZNAME:CET
DTSTART:20241027T010000
END:STANDARD
BEGIN:DAYLIGHT
TZOFFSETFROM:+0100
TZOFFSETTO:+0200
TZNAME:CEST
DTSTART:20250330T010000
END:DAYLIGHT
BEGIN:STANDARD
TZOFFSETFROM:+0200
TZOFFSETTO:+0100
TZNAME:CET
DTSTART:20251026T010000
END:STANDARD
BEGIN:DAYLIGHT
TZOFFSETFROM:+0100
TZOFFSETTO:+0200
TZNAME:CEST
DTSTART:20260329T010000
END:DAYLIGHT
BEGIN:STANDARD
TZOFFSETFROM:+0200
TZOFFSETTO:+0100
TZNAME:CET
DTSTART:20261025T010000
END:STANDARD
END:VTIMEZONE
BEGIN:VEVENT
DTSTART;TZID=Europe/Paris:20251003T200000
DTEND;TZID=Europe/Paris:20251003T220000
DTSTAMP:20260422T202531
CREATED:20250722T104358Z
LAST-MODIFIED:20250904T074238Z
UID:3266-1759521600-1759528800@www.lemoulin-roques.com
SUMMARY:Catherine Jeandel
DESCRIPTION:L’océan de l’anthropocène : les conséquences des activités humaines sur l’équilibre des milieux océaniques. \nCatherine Jeandel\, océanologue géochimiste au CNRS\, nous présentera\, sous la forme d’une conférence suivie d’échanges avec le public\, « l’océan de l’anthropocène : les conséquences des activités humaines sur l’équilibre des milieux océaniques ». \nTrès impliquée dans la diffusion de la culture scientifique\, elle a été l’une des initiatrices du Train du Climat qui a sillonné la France en 2015\, à l’occasion de la COP 21. \nInitiée très jeune au milieu marin des rivages de Bretagne du nord\, elle a poursuivi son rêve\, celui de devenir chercheuse. Sa thèse en géochimie marine lui a permis d’embarquer régulièrement en mer\, de réaliser des échantillons d’eau et de particules afin de les analyser en laboratoire et en interpréter les résultats. \nCette soirée sera l’occasion non seulement d’échanger avec elle sur ce métier « passion »\, rare et exigeant. Elle sera aussi l’occasion de faire le point sur l’état des connaissances concernant les questions relatives au changement climatique et à la pression des activités humaines sur l’équilibre des milieux océaniques.
URL:https://www.lemoulin-roques.com/evenement/catherine-jeandel/
LOCATION:Salle de spectacle\, France
CATEGORIES:Rencontre
ATTACH;FMTTYPE=image/jpeg:https://www.lemoulin-roques.com/wp-content/uploads/2025/06/photo-Catherine-Jeandel1-scaled.jpg
END:VEVENT
END:VCALENDAR