BEGIN:VCALENDAR
VERSION:2.0
PRODID:-//Moulin de Roques - ECPv6.15.18//NONSGML v1.0//EN
CALSCALE:GREGORIAN
METHOD:PUBLISH
X-WR-CALNAME:Moulin de Roques
X-ORIGINAL-URL:https://www.lemoulin-roques.com
X-WR-CALDESC:Évènements pour Moulin de Roques
REFRESH-INTERVAL;VALUE=DURATION:PT1H
X-Robots-Tag:noindex
X-PUBLISHED-TTL:PT1H
BEGIN:VTIMEZONE
TZID:Europe/Paris
BEGIN:DAYLIGHT
TZOFFSETFROM:+0100
TZOFFSETTO:+0200
TZNAME:CEST
DTSTART:20240331T010000
END:DAYLIGHT
BEGIN:STANDARD
TZOFFSETFROM:+0200
TZOFFSETTO:+0100
TZNAME:CET
DTSTART:20241027T010000
END:STANDARD
BEGIN:DAYLIGHT
TZOFFSETFROM:+0100
TZOFFSETTO:+0200
TZNAME:CEST
DTSTART:20250330T010000
END:DAYLIGHT
BEGIN:STANDARD
TZOFFSETFROM:+0200
TZOFFSETTO:+0100
TZNAME:CET
DTSTART:20251026T010000
END:STANDARD
BEGIN:DAYLIGHT
TZOFFSETFROM:+0100
TZOFFSETTO:+0200
TZNAME:CEST
DTSTART:20260329T010000
END:DAYLIGHT
BEGIN:STANDARD
TZOFFSETFROM:+0200
TZOFFSETTO:+0100
TZNAME:CET
DTSTART:20261025T010000
END:STANDARD
END:VTIMEZONE
BEGIN:VEVENT
DTSTART;TZID=Europe/Paris:20250416T143000
DTEND;TZID=Europe/Paris:20250416T153000
DTSTAMP:20260421T221136
CREATED:20241212T093848Z
LAST-MODIFIED:20250108T094124Z
UID:2669-1744813800-1744817400@www.lemoulin-roques.com
SUMMARY:Sorcière toi-même - Cie Rouges les Anges
DESCRIPTION:Antonin\, petit garçon passionné par les sorcières\, se demande si sa mère\, herboriste\, n’en est pas une. Commence alors un voyage dans lequel Antonin va découvrir les coulisses de l’histoire\, là où les chapeaux pointus et les balais volants des contes et légendes laissent la place à l’histoire véritable de ces femmes que l’on a persécutées\, parfois juste à cause de leur liberté de penser. \nMise en scène : Laurence Belet ; Texte : Loïc Balarac et Laurence Belet.\nSoutien à la création : Région Occitanie\, Conseil départemental Haute-Garonne\, ADAMI\, Mairie de Toulouse\, Marionettissimo\, Odradek\, Odyssud\, Usinotopie. \nLa compagnie est venue en résidence au Moulin pour ce même spectacle en mars 2023\, une rencontre avec les élèves du CLAS de Roques avait été organisée. \nDans le cadre du projet de territoire Itinéraire de création\, du livre au spectacle. \nDurée : 50min \nCrédit photo : Baptise Hamousin
URL:https://www.lemoulin-roques.com/evenement/sorciere-toi-meme-cie-rouge-les-anges/
LOCATION:Salle de spectacle\, France
CATEGORIES:Théâtre - Marionnettes
ATTACH;FMTTYPE=image/jpeg:https://www.lemoulin-roques.com/wp-content/uploads/2024/12/P20-Sorciere-toi-memeJeanne-et-Antonin-3Credit-Baptiste-Hamousin-scaled.jpg
END:VEVENT
END:VCALENDAR